Workbook

Sheet 총액
A1: 홍희마케팅 세금 총액 | F1: 홍희마케팅 4대보험/지방세/주민세
A2: 구분 | B2: 부가가치세 | C2: 종합소득세 | D2: 합계 | F2: 구분 | G2: 4대보험 | H2: 지방세 | I2: 주민세
A3: 2012년 | B3: =SUM('2012년'!C8:E8) -> 6964015 | C3: =SUM('2012년'!F8:H8) -> 687370 | D3: =B3+C3 -> 7651385 | F3: =A26 -> 2012년 | G3: =SUM('2012년'!B23:C23) -> 0 | I3: 5620
A4: 2013년 | B4: =SUM('2013년'!C8:E8) -> 9128180 | C4: =SUM('2013년'!F8:H8) -> 1539670 | D4: =B4+C4 -> 10667850 | F4: =A27 -> 2013년 | G4: =SUM('2013년'!B23:C23) -> 0 | H4: 68730 | I4: 68120
A5: 2014년 | B5: =SUM('2014년'!C8:E8) -> 10942880 | C5: =SUM('2014년'!F8:H8) -> 3421050 | D5: =B5+C5 -> 14363930 | F5: =A28 -> 2014년 | G5: =SUM('2014년'!B23:C23) -> 3046000 | H5: 153960 | I5: 62500
A6: 2015년 | B6: =SUM('2015년'!C8:E8) -> 17688090 | C6: =SUM('2015년'!F8:H8) -> 4366480 | D6: =B6+C6 -> 22054570 | F6: =A29 -> 2015년 | G6: =SUM('2015년'!B23:C23) -> 9573450 | H6: 311010
A7: 2016년 | B7: =SUM('2016년'!C8:E8) -> 22167490 | C7: =SUM('2016년'!F8:H8) -> 4781480 | D7: =B7+C7 -> 26948970 | F7: =A30 -> 2016년 | G7: =SUM('2016년'!B23:C23) -> 11950680 | H7: 396950
A8: 2017년 | B8: =SUM('2017년'!C8:E8) -> 26696080 | C8: =SUM('2017년'!F8:H8) -> 6259930 | D8: =B8+C8 -> 32956010 | F8: =A31 -> 2017년 | G8: =SUM('2017년'!B23:C23) -> 12787370 | H8: 434680
A9: 2018년 | B9: =SUM('2018년'!C8:E8) -> 24149950 | C9: =SUM('2018년'!F8:H8) -> 4366900 | D9: =B9+C9 -> 28516850 | F9: =A32 -> 2018년 | G9: =SUM('2018년'!B33:C33) -> 16065930 | H9: 574280
A10: 2019년 | B10: =SUM('2019년'!C8:E8) -> 28222200 | C10: =SUM('2019년'!F8:H8) -> 7327950 | D10: =B10+C10 -> 35550150 | F10: =A33 -> 2019년 | G10: =SUM('2019년'!B33:C33) -> 16115370 | H10: 385810
A11: 2020년 | B11: =SUM('2020년'!C8:E8) -> 33258310 | C11: =SUM('2020년'!F8:H8) -> 11594720 | D11: =B11+C11 -> 44853030 | F11: =A34 -> 2020년 | G11: =SUM('2020년'!B33:C33) -> 17039360 | H11: 46950 | I11: 96560
A12: 2021년 | B12: =SUM('2021년'!C8:E8) -> 50410610 | C12: =SUM('2021년'!F8:H8) -> 13577720 | D12: =B12+C12 -> 63988330 | F12: =A35 -> 2021년 | G12: =SUM('2021년'!B33:C33) -> 20454472 | H12: 1056790
A13: 2022년 | B13: =SUM('2022년'!C8:E8) -> 38711070 | C13: =SUM('2022년'!F8:H8) -> 90666172 | D13: =B13+C13 -> 129377242 | F13: =A36 -> 2022년 | G13: =SUM('2022년'!B33:C33) -> 34525120 | I13: 93750
A14: 2023년 | B14: =SUM('2023년'!C8:E8) -> 37139310 | C14: =SUM('2023년'!F8:H8) -> 5965250 | D14: =B14+C14 -> 43104560 | F14: 2023년 | G14: =SUM('2023년'!B33:C33) -> 44516120
A15: 2024년 | B15: =SUM('2024년'!C8:E8) -> 30736333 | C15: =SUM('2024년'!C8:E8) -> 30736333 | D15: =B15+C15 -> 61472666 | F15: 2024년 | G15: =SUM('2024년'!B33:C33) -> 64493450
A16: 2025년 | B16: =SUM('2025년'!C8:E8) -> 27551720 | C16: =SUM('2025년'!F8:H8) -> 2375680 | D16: =B16+C16 -> 29927400 | F16: 2025년 | G16: =SUM('2025년'!B33:C33) -> 97383760
A17: 2026년 | B17: =SUM('2026년'!C8:E8) -> 0 | C17: =SUM('2026년'!F8:H8) -> 0 | D17: =B17+C17 -> 0 | F17: 2026년 | G17: =SUM('2026년'!B33:C33) -> 0
A18: 2027년 | B18: =SUM('2027년'!C8:E8) -> 0 | C18: =SUM('2027년'!F8:H8) -> 0 | D18: =B18+C18 -> 0 | F18: 2027년 | G18: =SUM('2027년'!B33:C33) -> 0
A19: 2028년 | B19: =SUM('2028년'!C8:E8) -> 0 | C19: =SUM('2028년'!F8:H8) -> 0 | D19: =B19+C19 -> 0 | F19: 2028년 | G19: =SUM('2028년'!B33:C33) -> 0
A20: 2029년 | D20: =B20+C20 -> 0 | F20: 2029년
A21: 2030년 | D21: =B21+C21 -> 0 | F21: 2030년
A22: 금 액 | B22: =SUM(B3:B21) -> 363766238 | C22: =SUM(C3:C21) -> 187666705 | D22: =SUM(D3:D21) -> 551432943 | F22: 합계 | G22: =SUM(G3:G21) -> 347951082 | H22: =SUM(H3:H21) -> 3429160 | I22: =SUM(I3:I21) -> 326550
A24: 부동산광고인 세금 총액
A25: 구분 | B25: 부가가치세 | C25: 종합소득세 | D25: 합계
A26: 2012년
A27: 2013년
A28: 2014년 | F28: 총 세금 금액 | H28: =D22+G22+H22+I22+D43 -> 1151653549
A29: 2015년
A30: 2016년
A31: 2017년
A32: 2018년 | B32: =SUM('2018년'!C18:E18) -> 2112490 | C32: =SUM('2018년'!F18:H18) -> 129370 | D32: =SUM(B32:C32) -> 2241860
A33: 2019년 | B33: =SUM('2019년'!C18:E18) -> 4374790 | C33: =SUM('2019년'!F18:H18) -> 2702670 | D33: =SUM(B33:C33) -> 7077460
A34: 2020년 | B34: =SUM('2020년'!C18:E18) -> 746340 | C34: =SUM('2020년'!F18:H18) -> 410190 | D34: =SUM(B34:C34) -> 1156530
A35: 2021년 | B35: =SUM('2021년'!C18:E18) -> 0 | C35: =SUM('2021년'!F18:H18) -> 0 | D35: =SUM(B35:C35) -> 0
A36: 2022년 | B36: =SUM('2022년'!C18:E18) -> 6944380 | C36: =SUM('2022년'!F18:H18) -> 0 | D36: =SUM(B36:C36) -> 6944380
A37: 2023년 | B37: =SUM('2023년'!C18:E18) -> 30424400 | C37: =SUM('2023년'!F18:H18) -> 603430 | D37: =SUM(B37:C37) -> 31027830
A38: 2024년 | B38: =SUM('2024년'!C18:E18) -> 60476757 | C38: =SUM('2024년'!F18:H18) -> 31815890 | D38: =SUM(B38:C38) -> 92292647
A39: 2025년 | B39: =SUM('2025년'!C18:E18) -> 75310477 | C39: =SUM('2025년'!F18:H18) -> 32462630 | D39: =SUM(B39:C39) -> 107773107
A40: 2026년 | B40: =SUM('2026년'!C18:E18) -> 0 | C40: =SUM('2026년'!F18:H18) -> 0 | D40: =SUM(B40:C40) -> 0
A41: 2027년 | B41: =SUM('2027년'!C18:E18) -> 0 | C41: =SUM('2027년'!F18:H18) -> 0 | D41: =SUM(B41:C41) -> 0
A42: 2028년 | B42: =SUM('2028년'!C18:E18) -> 0 | C42: =SUM('2028년'!F18:H18) -> 0 | D42: =SUM(B42:C42) -> 0
A43: 합계 | B43: =SUM(B26:B42) -> 180389634 | C43: =SUM(C26:C42) -> 68124180 | D43: =SUM(D26:D42) -> 248513814

Sheet 2012년
A1: 2012년 세금 내역
A2: 기 간 | C2: 부가가시세 | F2: 종합소득세
C3: 금액 | D3: 납부날짜 | E3: 납부방법 | F3: 금액 | G3: 납부날짜 | H3: 납부방법
A4: 1분기 | B4: 예정고지
B5: 확정고지 | C5: 2081885 | D5: 2012.07.23 | E5: 롯데카드
A6: 2분기 | B6: 예정고지 | C6: 1040000 | D6: 2012.10.18 | E6: 롯데카드 | F6: 687370 | G6: 2013.05.31 | H6: 지로납부
B7: 확정고지 | C7: 3842130 | D7: 2013.01.24 | E7: 롯데카드
A8: 총 액 | C8: =C4+C5+C6+C7 -> 6964015 | F8: =F4+F6 -> 687370
A10: 2012년 4대보험
A11: 1월
A12: 2월
A13: 3월
A14: 4월
A15: 5월
A16: 6월
A17: 7월
A18: 8월
A19: 9월
A20: 10월
A21: 11월
A22: 12월
A23: 합계 | B23: =SUM(B11:B22) -> 0

Sheet 2013년
A1: 2013년 세금 내역
A2: 기 간 | C2: 부가가시세 | F2: 종합소득세
C3: 금액 | D3: 납부날짜 | E3: 납부방법 | F3: 금액 | G3: 납부날짜 | H3: 납부방법
A4: 1분기 | B4: 예정고지 | C4: 2441000 | D4: 2013.05.04 | E4: 인터넷 | F4: 343000 | G4: 2013.11.15 | H4: 농협계좌이체
B5: 확정고지 | C5: 2514230 | D5: 2013.06.10 | E5: 인터넷
A6: 2분기 | B6: 예정고지 | C6: 1234000 | D6: 2013.10.17 | E6: 롯데카드 | F6: 1196670 | G6: 2014.05.28 | H6: 현대카드
B7: 확정고지 | C7: 2938950 | D7: 2014.01.24 | E7: 인터넷
A8: 총 액 | C8: =C4+C5+C6+C7 -> 9128180 | F8: =F4+F6 -> 1539670
A10: 2013년 4대보험
A11: 1월
A12: 2월
A13: 3월
A14: 4월
A15: 5월
A16: 6월
A17: 7월
A18: 8월
A19: 9월
A20: 10월
A21: 11월
A22: 12월
A23: 합계 | B23: =SUM(B11:B22) -> 0

Sheet 2014년
A1: 2014년 세금 내역
A2: 기 간 | C2: 부가가시세 | F2: 종합소득세
C3: 금액 | D3: 납부날짜 | E3: 납부방법 | F3: 금액 | G3: 납부날짜 | H3: 납부방법
A4: 1분기 | B4: 예정고지 | C4: 2086000 | D4: 2014.04.25 | E4: 현대카드 | F4: 769000 | G4: 2014.11.24 | H4: 현대카드
B5: 확정고지 | C5: 2307620 | D5: 2014.07.22 | E5: 인터넷
A6: 2분기 | B6: 예정고지 | C6: 2196000 | D6: 2014.10.23 | E6: 현대카드 | F6: 2652050 | G6: 2015.05.26 | H6: 현대카드
B7: 확정고지 | C7: 4353260 | D7: 2015.01.26 | E7: 현대카드
A8: 총 액 | C8: =C4+C5+C6+C7 -> 10942880 | F8: =F4+F6 -> 3421050
A10: 2014년 4대보험
A11: 1월
A12: 2월
A13: 3월
A14: 4월
A15: 5월
A16: 6월 | B16: 1413520
A17: 7월 | B17: 472160
A18: 8월 | B18: 580160
A19: 9월 | B19: 580160
A20: 10월
A21: 11월
A22: 12월
A23: 합계 | B23: =SUM(B11:B22) -> 3046000

Sheet 2015년
A1: 2015년 세금 내역
A2: 기 간 | C2: 부가가시세 | F2: 종합소득세
C3: 금액 | D3: 납부날짜 | E3: 납부방법 | F3: 금액 | G3: 납부날짜 | H3: 납부방법
A4: 1분기 | B4: 예정고지 | C4: 3274000 | D4: 2015.04.22 | E4: 현대카드 | F4: 1555000 | G4: 2015.11.23 | H4: 현대카드
B5: 확정고지 | C5: 4954260 | D5: 2015.07.21 | E5: 현대카드
A6: 2분기 | B6: 예정고지 | C6: 4114000 | D6: 2015.10.20 | E6: 현대카드 | F6: 2811480 | G6: 2016.05.25 | H6: 위택스납부
B7: 확정고지 | C7: 5345830 | D7: 2016.01.22 | E7: 인터넷지로
A8: 총 액 | C8: =C4+C5+C6+C7 -> 17688090 | F8: =F4+F6 -> 4366480
A10: 2015년 4대보험
A11: 1월 | B11: 583720
A12: 2월
A13: 3월 | B13: 583720
A14: 4월 | B14: 583720
A15: 5월 | B15: 583720
A16: 6월 | B16: 1805640
A17: 7월 | B17: 917900
A18: 8월 | B18: 917900
A19: 9월 | B19: 806520
A20: 10월 | B20: 806520
A21: 11월 | B21: 806520
A22: 12월 | B22: 1177570
A23: 합계 | B23: =SUM(B11:B22) -> 9573450

Sheet 2016년
A1: 2016년 세금 내역
A2: 기 간 | C2: 부가가시세 | F2: 종합소득세
C3: 금액 | D3: 납부날짜 | E3: 납부방법 | F3: 금액 | G3: 납부날짜 | H3: 납부방법
A4: 1분기 | B4: 예정고지 | C4: 4729000 | D4: 2016.04.15 | E4: 인터넷지로 | F4: 1984000 | G4: 2016.11.29 | H4: 현대카드
B5: 확정고지 | C5: 5841200 | D5: 2016.07.21 | E5: 농협납부
A6: 2분기 | B6: 예정고지 | C6: 5285000 | D6: 2016.10.24 | E6: 현대카드 | F6: 2797480 | G6: 2017.05.31 | H6: 계좌이체
B7: 확정고지 | C7: 6312290 | D7: 2017.01.23 | E7: 현대카드
A8: 총 액 | C8: =C4+C5+C6+C7 -> 22167490 | F8: =F4+F6 -> 4781480
A10: 2016년 4대보험
A11: 1월 | B11: 1103520
A12: 2월 | B12: 893910
A13: 3월 | B13: 782420
A14: 4월 | B14: 864180
A15: 5월 | B15: 798240
A16: 6월 | B16: 1513480
A17: 7월 | B17: 1287190
A18: 8월 | B18: 961640
A19: 9월 | B19: 797460
A20: 10월 | B20: 1243000
A21: 11월 | B21: 1014640
A22: 12월 | B22: 691000
A23: 합계 | B23: =SUM(B11:B22) -> 11950680

Sheet 2017년
A1: 2017년 세금 내역
A2: 기 간 | C2: 부가가시세 | F2: 종합소득세
C3: 금액 | D3: 납부날짜 | E3: 납부방법 | F3: 금액 | G3: 납부날짜 | H3: 납부방법
A4: 1분기 | B4: 예정고지 | C4: 5798000 | D4: 2017.04.17 | E4: 카드로택스 | F4: 2173000 | G4: 2017.12.15 | H4: 계좌이체
B5: 확정고지 | C5: 7701540 | D5: 2017.07.24 | E5: 계좌이체
A6: 2분기 | B6: 예정고지 | C6: 6749000 | D6: 2017.10.26 | E6: 카드로택스 | F6: 4086930 | G6: 2018.05.16 | H6: 농협납부
B7: 확정고지 | C7: 6447540 | D7: 2018.01.22 | E7: 카드로택스
A8: 총 액 | C8: =C4+C5+C6+C7 -> 26696080 | F8: =F4+F6 -> 6259930
A10: 2017년 4대보험
A11: 1월 | B11: 845080
A12: 2월 | B12: 845080
A13: 3월 | B13: 845080
A14: 4월 | B14: 1132180
A15: 5월 | B15: 1304100
A16: 6월 | B16: 917250
A17: 7월 | B17: 1462700
A18: 8월 | B18: 1087180
A19: 9월 | B19: 1087180
A20: 10월 | B20: 1087180
A21: 11월 | B21: 1087180
A22: 12월 | B22: 1087180
A23: 합계 | B23: =SUM(B11:B22) -> 12787370

Sheet 2018년
A1: 홍희마케팅-2018년 세금 내역
A2: 기 간 | C2: 부가가시세 | F2: 종합소득세
C3: 금액 | D3: 납부날짜 | E3: 납부방법 | F3: 금액 | G3: 납부날짜 | H3: 납부방법
A4: 1분기 | B4: 예정고지 | C4: 6595000 | D4: 2018.04.19 | E4: 카드로택스 | F4: =2845000+459000 -> 3304000 | G4: 2018.11.14 | H4: 계좌이체 (일용소득세포함 495,000원)
B5: 확정고지 | C5: 7771570 | D5: 2018.07.23 | E5: 계좌이체
A6: 2분기 | B6: 예정고지 | C6: 7183000 | D6: 2018.10.22 | E6: 카드로택스 | F6: 1062900 | G6: 2019.05.22 | H6: 계좌이체 (일용소득세포함 360,170원)
B7: 확정고지 | C7: 2600380 | D7: 2019.01.21 | E7: 카드로택스
A8: 총 액 | C8: =C4+C5+C6+C7 -> 24149950 | F8: =F4+F6 -> 4366900
A11: 부동산광고인-2018년 세금 내역
A12: 기 간 | C12: 부가가시세 | F12: 종합소득세
C13: 금액 | D13: 납부날짜 | E13: 납부방법 | F13: 금액 | G13: 납부날짜 | H13: 납부방법
A14: 1분기 | B14: 예정고지
B15: 확정고지 | C15: 983130 | D15: 2018.07.23 | E15: 계좌이체
A16: 2분기 | B16: 예정고지 | C16: 491000 | D16: 2018.10.23 | E16: 계좌이체 | F16: 129370 | G16: 2019.05.14 | H16: 계좌이체 (일용소득세포함 11,760원)
B17: 확정고지 | C17: 638360 | D17: 2019.01.21 | E17: 계좌이체
A18: 총 액 | C18: =C14+C15+C16+C17 -> 2112490 | F18: =F14+F16 -> 129370
A20: 2018년 4대보험
A21: 1월 | B21: 660560
A22: 2월 | B22: 1146040
A23: 3월 | B23: 1050960
A24: 4월 | B24: 908090
A25: 5월 | B25: 1153040
A26: 6월 | B26: 1636300
A27: 7월 | B27: 1913510
A28: 8월 | B28: 1382630
A29: 9월 | B29: 1429080
A30: 10월 | B30: 1483940
A31: 11월 | B31: 1692110
A32: 12월 | B32: 1609670
A33: 합계 | B33: =SUM(B21:B32) -> 16065930

Sheet 2019년
A1: 홍희마케팅-2019년 세금 내역
A2: 기 간 | C2: 부가가시세 | F2: 종합소득세
C3: 금액 | D3: 납부날짜 | E3: 납부방법 | F3: 금액 | G3: 납부날짜 | H3: 납부방법
A4: 1분기 | B4: 예정고지 | C4: 4891000 | D4: 2019.04.09 | E4: 카드로택스 | F4: 1800000 | G4: 2019.11.18 | H4: 계좌이체
B5: 확정고지 | C5: 8358020 | D5: 2019.07.21 | E5: 카드로택스
A6: 2분기 | B6: 예정고지 | C6: 6624000 | D6: 2019.10.20 | E6: 카트로택스 | F6: 5527950 | G6: 2020.08.20 | H6: 계좌이체
B7: 확정고지 | C7: 8349180 | D7: 2020.01.23 | E7: 카트로택스
A8: 총 액 | C8: =C4+C5+C6+C7 -> 28222200 | F8: =F4+F6 -> 7327950
A11: 부동산광고인-2019년 세금 내역
A12: 기 간 | C12: 부가가시세 | F12: 종합소득세
C13: 금액 | D13: 납부날짜 | E13: 납부방법 | F13: 금액 | G13: 납부날짜 | H13: 납부방법
A14: 1분기 | B14: 예정고지 | C14: 564000 | D14: 2019.04.09 | E14: 농협 계좌이체 | F14: 1562900 | G14: 2020.01.23 | H14: 계좌이체
B15: 확정고지 | C15: 1313890 | D15: 2019.08.19 | E15: 농협 계좌이체
A16: 2분기 | B16: 예정고지 | C16: 934000 | D16: 2019.10.20 | E16: 농협 계좌이체 | F16: 1139770 | G16: 2020.08.20 | H16: 계좌이체
B17: 확정고지 | C17: 1562900 | D17: 2020.01.23 | E17: 농협 계좌이체
A18: 총 액 | C18: =C14+C15+C16+C17 -> 4374790 | F18: =F14+F16 -> 2702670
A20: 2019년 4대보험
A21: 1월 | B21: 1755370
A22: 2월 | B22: 2270030
A23: 3월 | B23: 1015010
A24: 4월 | B24: 1909300
A25: 5월 | B25: 992030
A26: 6월 | B26: 1035610
A27: 7월 | B27: 1123150
A28: 8월 | B28: 933700
A29: 9월 | B29: 1003900
A30: 10월 | B30: 1009460
A31: 11월 | B31: 1361940
A32: 12월 | B32: 1705870
A33: 합계 | B33: =SUM(B21:B32) -> 16115370

Sheet 2020년
A1: 홍희마케팅-2020년 세금 내역
A2: 기 간 | C2: 부가가시세 | F2: 종합소득세
C3: 금액 | D3: 납부날짜 | E3: 납부방법 | F3: 금액 | G3: 납부날짜 | H3: 납부방법
A4: 1분기 | B4: 예정고지 | C4: 7486000 | D4: 2020.04.20 | E4: 카드로텍스 | F4: 3300000 | G4: 2020.02.10 | H4: 계좌이체
B5: 확정고지 | C5: 8216260 | D5: 2020.07.27 | E5: 카드로텍스[삼성]
A6: 2분기 | B6: 예정고지 | C6: 7851000 | D6: 2020.10.12 | E6: 카드로텍스[신한] | F6: 8294720 | G6: 2021.05.21 | H6: 하나/현대카드
B7: 확정고지 | C7: 9705050 | D7: 2021.01.21 | E7: 카드로텍스[현대]
A8: 총 액 | C8: =C4+C5+C6+C7 -> 33258310 | F8: =F4+F6 -> 11594720
A11: 부동산광고인-2020년 세금 내역
A12: 기 간 | C12: 부가가시세 | F12: 종합소득세
C13: 금액 | D13: 납부날짜 | E13: 납부방법 | F13: 금액 | G13: 납부날짜 | H13: 납부방법
A14: 1분기 | B14: 예정고지
B15: 확정고지 | C15: 746340 | D15: 2020.07.27 | E15: 카드로텍스
A16: 2분기 | B16: 예정고지 | F16: 410190 | G16: 2021.05.24 | H16: 농협계좌이체
B17: 확정고지
A18: 총 액 | C18: =C14+C15+C16+C17 -> 746340 | F18: =F14+F16 -> 410190
A20: 2020년 4대보험
A21: 1월 | B21: 1124930
A22: 2월 | B22: 1247330
A23: 3월 | B23: 1811410
A24: 4월 | B24: 1039910
A25: 5월 | B25: 1255010
A26: 6월 | B26: 1490410
A27: 7월 | B27: 1540490
A28: 8월 | B28: 1537790
A29: 9월 | B29: 1550930
A30: 10월 | B30: 1550930
A31: 11월 | B31: 1445110
A32: 12월 | B32: 1445110
A33: 합계 | B33: =SUM(B21:B32) -> 17039360

Sheet 2021년
A1: 홍희마케팅-2021년 세금 내역
A2: 기 간 | C2: 부가가시세 | F2: 종합소득세
C3: 금액 | D3: 납부날짜 | E3: 납부방법 | F3: 금액 | G3: 납부날짜 | H3: 납부방법
A4: 1분기 | B4: 예정고지 | C4: 8778000 | D4: 2021.04.20 | E4: 계좌이체 | F4: 8294720 | G4: 2021.05.21 | H4: 하나카드
B5: 확정고지 | C5: 19198930 | D5: 2021.07.30 | E5: 3회분납
A6: 2분기 | B6: 예정고지 | F6: 5283000 | G6: 2022.04.27 | H6: 계좌이체
B7: 확정고지 | C7: 22433680 | D7: 2022.01.24 | E7: 계좌이체
A8: 총 액 | C8: =C4+C5+C6+C7 -> 50410610 | F8: =F4+F6 -> 13577720
A11: 부동산광고인-2021년 세금 내역
A12: 기 간 | C12: 부가가시세 | F12: 종합소득세
C13: 금액 | D13: 납부날짜 | E13: 납부방법 | F13: 금액 | G13: 납부날짜 | H13: 납부방법
A14: 1분기 | B14: 예정고지
B15: 확정고지
A16: 2분기 | B16: 예정고지
B17: 확정고지
A18: 총 액 | C18: =C14+C15+C16+C17 -> 0 | F18: =F14+F16 -> 0
A20: 2021년 4대보험
A21: 1월 | B21: 1535130
A22: 2월 | B22: 1584140
A23: 3월 | B23: 1606300
A24: 4월 | B24: 1606420
A25: 5월 | B25: 1606300
A26: 6월 | B26: 1965222
A27: 7월 | B27: 1983900
A28: 8월 | B28: 1983460
A29: 9월 | B29: 1807960
A30: 10월 | B30: 1646690
A31: 11월 | B31: 1610010
A32: 12월 | B32: 1518940
A33: 합계 | B33: =SUM(B21:B32) -> 20454472

Sheet 2022년
A1: 홍희마케팅-2022년 세금 내역
A2: 기 간 | C2: 부가가시세 | F2: 종합소득세
C3: 금액 | D3: 납부날짜 | E3: 납부방법 | F3: 금액 | G3: 납부날짜 | H3: 납부방법
A4: 1분기 | B4: 예정고지 | C4: 11216000 | D4: 2022.04.27 | E4: 카드납부 | F4: 62035492 | G4: 2022.06.29 | H4: 농협계좌
B5: 확정고지 | C5: 10310920 | D5: 2022.09.29 | E5: 카드납부
A6: 2분기 | B6: 예정고지 | C6: 10763000 | F6: 28630680 | G6: 4회로 나눠 납입 | H6: 4회로 분활 납입
B7: 확정고지 | C7: 6421150 | D7: 2023.01.26 | E7: 신한카드
A8: 총 액 | C8: =C4+C5+C6+C7 -> 38711070 | F8: =F4+F6 -> 90666172
A11: 부동산광고인-2022년 세금 내역
A12: 기 간 | C12: 부가가시세 | F12: 종합소득세
C13: 금액 | D13: 납부날짜 | E13: 납부방법 | F13: 금액 | G13: 납부날짜 | H13: 납부방법
A14: 1분기 | B14: 예정고지
B15: 확정고지
A16: 2분기 | B16: 예정고지
B17: 확정고지 | C17: 6944380 | D17: 2023.01.20 | E17: 국민계좌이체
A18: 총 액 | C18: =C14+C15+C16+C17+F18 -> 6944380 | F18: =F14+F16 -> 0
A20: 2022년 4대보험
A21: 1월 | B21: 1558180
A22: 2월 | B22: 2242520
A23: 3월 | B23: 1844740
A24: 4월 | B24: 1718920
A25: 5월 | B25: 1863760
A26: 6월 | B26: 894430
A27: 7월 | B27: 1876260
A28: 8월 | B28: 1731030
A29: 9월 | B29: 1994950
A30: 10월 | B30: 2193050
A31: 11월 | B31: 2042910
A32: 12월 | B32: 14564370
A33: 합계 | B33: =SUM(B21:B32) -> 34525120

Sheet 2023년
A1: 홍희마케팅-2023년 세금 내역
A2: 기 간 | C2: 부가가시세 | F2: 종합소득세
C3: 금액 | D3: 납부날짜 | E3: 납부방법 | F3: 금액 | G3: 납부날짜 | H3: 납부방법
A4: 1분기 | B4: 예정고지 | C4: 8592000 | D4: 2023.04.24 | E4: 현대카드 | F4: 994250 | G4: 2023.08.16 | H4: 농협입금
B5: 확정고지 | C5: 9089630 | D5: 2023.07.24 | E5: 하나카드
A6: 2분기 | B6: 예정고지 | C6: 8660000 | D6: 2023.10.23 | E6: 현대카드 | F6: 4971000 | G6: 2023.11.24 | H6: 농협입금
B7: 확정고지 | C7: 10797680 | D7: 2024.01.25 | E7: 현대카드
A8: 총 액 | C8: =C4+C5+C6+C7 -> 37139310 | F8: =F4+F6 -> 5965250
A11: 부동산광고인-2023년 세금 내역
A12: 기 간 | C12: 부가가시세 | F12: 종합소득세
C13: 금액 | D13: 납부날짜 | E13: 납부방법 | F13: 금액 | G13: 납부날짜 | H13: 납부방법
A14: 1분기 | B14: 예정고지 | C14: 3472000 | D14: 2023.04.24 | E14: 국민카드 | F14: 603430 | G14: 2023.08.16 | H14: 농협입금
B15: 확정고지 | C15: 10414740 | D15: 2023.07.24 | E15: 계좌이체
A16: 2분기 | B16: 예정고지 | C16: 6943000 | D16: 2023.10.23 | E16: 계좌이체
B17: 확정고지 | C17: 8991230 | D17: 2024.01.25 | E17: 농협계좌이체
A18: 총 액 | C18: =C14+C15+C16+C17+F18 -> 30424400 | F18: =F14+F16 -> 603430
A20: 2023년 4대보험
A21: 1월 | B21: 3376090
A22: 2월 | B22: 3423140
A23: 3월 | B23: 3943980
A24: 4월 | B24: 3926670
A25: 5월 | B25: 5054360
A26: 6월 | B26: 4329240
A27: 7월 | B27: 4256750
A28: 8월 | B28: 3825680
A29: 9월 | B29: 2643240
A30: 10월 | B30: 2995090
A31: 11월 | B31: 2888580
A32: 12월 | B32: 3853300
A33: 합계 | B33: =SUM(B21:B32) -> 44516120

Sheet 2024년
A1: 홍희마케팅-2024년 세금 내역
A2: 기 간 | C2: 부가가시세 | F2: 종합소득세
C3: 금액 | D3: 납부날짜 | E3: 납부방법 | F3: 금액 | G3: 납부날짜 | H3: 납부방법
A4: 1분기 | B4: 예정고지 | C4: 9564000 | D4: 2024.04.24 | E4: 농협계좌이체 | F4: 13070130 | G4: 2024.05.31 | H4: 농협 계좌이체
B5: 확정고지 | C5: -1144267 | D5: 2023.07.24 | E5: 환급
A6: 2분기 | B6: 예정고지 | C6: 4209000 | D6: 2024.10.24 | E6: 계좌이체 | F6: 8200000 | G6: 2024.11.29 | H6: 농협 카드납부
B7: 확정고지 | C7: 18107600 | D7: 2025.01.20 | E7: 3회 분할
A8: 총 액 | C8: =C4+C5+C6+C7 -> 30736333 | F8: =F4+F6 -> 21270130
A11: 부동산광고인-2024년 세금 내역
A12: 기 간 | C12: 부가가시세 | F12: 종합소득세
C13: 금액 | D13: 납부날짜 | E13: 납부방법 | F13: 금액 | G13: 납부날짜 | H13: 납부방법
A14: 1분기 | B14: 예정고지 | C14: 7963000 | D14: 2024.04.24 | E14: 농협계좌이체 | F14: 23024890 | G14: 2024.05.31 | H14: 농협 계좌이체 | I14: 3회 납부
B15: 확정고지 | C15: 7460000 | D15: 2024.09.13 | E15: 하나계좌이체
A16: 2분기 | B16: 예정고지 | C16: 15170000 | D16: 2024.10.24 | E16: 계좌이체[3분할] | F16: 8791000 | G16: 2024.11.29 | H16: 농협 계좌이체
B17: 확정고지 | C17: -1932133 | D17: 2025.01.20 | E17: 환급
A18: 총 액 | C18: =C14+C15+C16+C17+F18 -> 60476757 | F18: =F14+F16 -> 31815890
A20: 2024년 4대보험
A21: 1월 | B21: 3039360
A22: 2월 | B22: 3129040
A23: 3월 | B23: 3557100
A24: 4월 | B24: 4088970
A25: 5월 | B25: 4374990
A26: 6월 | B26: 6805220
A27: 7월 | B27: 5178860
A28: 8월 | B28: 5293070
A29: 9월 | B29: 5305390
A30: 10월 | B30: 5293070
A31: 11월 | B31: 5293070
A32: 12월 | B32: 13135310
A33: 합계 | B33: =SUM(B21:B32) -> 64493450

Sheet 2025년
A1: 홍희마케팅-2025년 세금 내역
A2: 기 간 | C2: 부가가시세 | F2: 종합소득세
C3: 금액 | D3: 납부날짜 | E3: 납부방법 | F3: 금액 | G3: 납부날짜 | H3: 납부방법
A4: 1분기 | B4: 예정고지 | C4: 11072000 | D4: 2025.04.25 | E4: 농협카드 | F4: 2375680 | G4: 2025.05.13 | H4: 지방세 725,680원
B5: 확정고지 | C5: 9989970 | D5: 2025.07.25 | E5: 3회분납완료
A6: 2분기 | B6: 예정고지 | C6: 10507000 | D6: 2025.10.31 | E6: 3회분납완료
B7: 확정고지 | C7: -4017250 | E7: 환급
A8: 총 액 | C8: =C4+C5+C6+C7 -> 27551720 | F8: =F4+F6 -> 2375680
A11: 부동산광고인-2025년 세금 내역
A12: 기 간 | C12: 부가가시세 | F12: 종합소득세
C13: 금액 | D13: 납부날짜 | E13: 납부방법 | F13: 금액 | G13: 납부날짜 | H13: 납부방법
A14: 1분기 | B14: 예정고지 | C14: 6618000 | D14: 2025.04.25 | E14: 계좌이체 | F14: 32462630 | G14: 2025.05.13 | H14: 지방세 3,623,400원
B15: 확정고지 | C15: 11756747 | D15: 2025.07.25 | E15: 3회분납완료
A16: 2분기 | B16: 예정고지 | C16: 9187000 | D16: 2025.10.31 | E16: 3회분납완료
B17: 확정고지 | C17: 15286100 | D17: 2026.03.26 | E17: 3회분납완료
A18: 총 액 | C18: =C14+C15+C16+C17+F18 -> 75310477 | F18: =F14+F16 -> 32462630
A20: 2025년 4대보험
A21: 1월 | B21: 5196790
A22: 2월 | B22: 4736770
A23: 3월 | B23: 5168010
A24: 4월 | B24: 6143920
A25: 5월 | B25: 24093200
A26: 6월 | B26: 5913590
A27: 7월 | B27: 7709350
A28: 8월 | B28: 7677930
A29: 9월 | B29: 7164730
A30: 10월 | B30: 7509900
A31: 11월 | B31: 8017090
A32: 12월 | B32: 8052480
A33: 합계 | B33: =SUM(B21:B32) -> 97383760

Sheet 2026년
A1: 홍희마케팅-2026년 세금 내역
A2: 기 간 | C2: 부가가시세 | F2: 종합소득세
C3: 금액 | D3: 납부날짜 | E3: 납부방법 | F3: 금액 | G3: 납부날짜 | H3: 납부방법
A4: 1분기 | B4: 예정고지
B5: 확정고지
A6: 2분기 | B6: 예정고지
B7: 확정고지
A8: 총 액 | C8: =C4+C5+C6+C7 -> 0 | F8: =F4+F6 -> 0
A11: 부동산광고인-2026년 세금 내역
A12: 기 간 | C12: 부가가시세 | F12: 종합소득세
C13: 금액 | D13: 납부날짜 | E13: 납부방법 | F13: 금액 | G13: 납부날짜 | H13: 납부방법
A14: 1분기 | B14: 예정고지
B15: 확정고지
A16: 2분기 | B16: 예정고지
B17: 확정고지
A18: 총 액 | C18: =C14+C15+C16+C17+F18 -> 0 | F18: =F14+F16 -> 0
A20: 2026년 4대보험
A21: 1월
A22: 2월
A23: 3월
A24: 4월
A25: 5월
A26: 6월
A27: 7월
A28: 8월
A29: 9월
A30: 10월
A31: 11월
A32: 12월
A33: 합계 | B33: =SUM(B21:B32) -> 0

Sheet 2027년
A1: 홍희마케팅-2027년 세금 내역
A2: 기 간 | C2: 부가가시세 | F2: 종합소득세
C3: 금액 | D3: 납부날짜 | E3: 납부방법 | F3: 금액 | G3: 납부날짜 | H3: 납부방법
A4: 1분기 | B4: 예정고지
B5: 확정고지
A6: 2분기 | B6: 예정고지
B7: 확정고지
A8: 총 액 | C8: =C4+C5+C6+C7 -> 0 | F8: =F4+F6 -> 0
A11: 부동산광고인-2027년 세금 내역
A12: 기 간 | C12: 부가가시세 | F12: 종합소득세
C13: 금액 | D13: 납부날짜 | E13: 납부방법 | F13: 금액 | G13: 납부날짜 | H13: 납부방법
A14: 1분기 | B14: 예정고지
B15: 확정고지
A16: 2분기 | B16: 예정고지
B17: 확정고지
A18: 총 액 | C18: =C14+C15+C16+C17+F18 -> 0 | F18: =F14+F16 -> 0
A20: 2027년 4대보험
A21: 1월
A22: 2월
A23: 3월
A24: 4월
A25: 5월
A26: 6월
A27: 7월
A28: 8월
A29: 9월
A30: 10월
A31: 11월
A32: 12월
A33: 합계 | B33: =SUM(B21:B32) -> 0

Sheet 2028년
A1: 홍희마케팅-2028년 세금 내역
A2: 기 간 | C2: 부가가시세 | F2: 종합소득세
C3: 금액 | D3: 납부날짜 | E3: 납부방법 | F3: 금액 | G3: 납부날짜 | H3: 납부방법
A4: 1분기 | B4: 예정고지
B5: 확정고지
A6: 2분기 | B6: 예정고지
B7: 확정고지
A8: 총 액 | C8: =C4+C5+C6+C7 -> 0 | F8: =F4+F6 -> 0
A11: 부동산광고인-2028년 세금 내역
A12: 기 간 | C12: 부가가시세 | F12: 종합소득세
C13: 금액 | D13: 납부날짜 | E13: 납부방법 | F13: 금액 | G13: 납부날짜 | H13: 납부방법
A14: 1분기 | B14: 예정고지
B15: 확정고지
A16: 2분기 | B16: 예정고지
B17: 확정고지
A18: 총 액 | C18: =C14+C15+C16+C17+F18 -> 0 | F18: =F14+F16 -> 0
A20: 2028년 4대보험
A21: 1월
A22: 2월
A23: 3월
A24: 4월
A25: 5월
A26: 6월
A27: 7월
A28: 8월
A29: 9월
A30: 10월
A31: 11월
A32: 12월
A33: 합계 | B33: =SUM(B21:B32) -> 0
